Package: BaalChIP Version: 1.35.0 Command: /Library/Frameworks/R.framework/Resources/bin/R CMD build --keep-empty-dirs --no-resave-data BaalChIP StartedAt: 2025-10-01 16:02:05 -0400 (Wed, 01 Oct 2025) EndedAt: 2025-10-01 16:04:37 -0400 (Wed, 01 Oct 2025) EllapsedTime: 151.9 seconds RetCode: 0 Status: OK PackageFile: BaalChIP_1.35.0.tar.gz PackageFileSize: 45.31 MiB