Package: BaalChIP Version: 1.35.0 Command: rm -rf BaalChIP.buildbin-libdir && mkdir BaalChIP.buildbin-libdir && /Users/biocbuild/BBS/utils/build-universal.sh BaalChIP_1.35.0.tar.gz /Library/Frameworks/R.framework/Resources/bin/R BaalChIP.buildbin-libdir StartedAt: 2025-10-02 01:38:33 -0400 (Thu, 02 Oct 2025) EndedAt: 2025-10-02 01:40:21 -0400 (Thu, 02 Oct 2025) EllapsedTime: 107.9 seconds RetCode: 0 Status: OK PackageFile: BaalChIP_1.35.0.tgz PackageFileSize: 100.2 MiB