Package: BUSseq Version: 1.17.0 Command: /home/biocbuild/bbs-3.23-bioc/R/bin/R CMD INSTALL BUSseq StartedAt: 2025-11-20 15:18:18 -0500 (Thu, 20 Nov 2025) EndedAt: 2025-11-20 15:18:44 -0500 (Thu, 20 Nov 2025) EllapsedTime: 26.8 seconds RetCode: 0 Status: OK