Package: BUSseq Version: 1.15.1 Command: /Library/Frameworks/R.framework/Resources/bin/R CMD INSTALL BUSseq StartedAt: 2025-10-17 15:20:33 -0400 (Fri, 17 Oct 2025) EndedAt: 2025-10-17 15:21:10 -0400 (Fri, 17 Oct 2025) EllapsedTime: 36.8 seconds RetCode: 0 Status: OK