Package: BUSseq Version: 1.15.1 Command: rm -rf BUSseq.buildbin-libdir && mkdir BUSseq.buildbin-libdir && /Users/biocbuild/BBS/utils/build-universal.sh BUSseq_1.15.1.tar.gz /Library/Frameworks/R.framework/Resources/bin/R BUSseq.buildbin-libdir StartedAt: 2025-10-18 02:48:21 -0400 (Sat, 18 Oct 2025) EndedAt: 2025-10-18 02:49:01 -0400 (Sat, 18 Oct 2025) EllapsedTime: 40.4 seconds RetCode: 0 Status: OK PackageFile: BUSseq_1.15.1.tgz PackageFileSize: 960.3 KiB