Package: BUSseq Version: 1.15.0 Command: /Library/Frameworks/R.framework/Resources/bin/R CMD INSTALL BUSseq StartedAt: 2025-10-03 15:12:12 -0400 (Fri, 03 Oct 2025) EndedAt: 2025-10-03 15:12:22 -0400 (Fri, 03 Oct 2025) EllapsedTime: 10.4 seconds RetCode: 0 Status: OK