Package: BUSseq Version: 1.15.0 Command: /Library/Frameworks/R.framework/Resources/bin/R CMD build --keep-empty-dirs --no-resave-data BUSseq StartedAt: 2025-10-03 15:48:54 -0400 (Fri, 03 Oct 2025) EndedAt: 2025-10-03 15:49:25 -0400 (Fri, 03 Oct 2025) EllapsedTime: 31.3 seconds RetCode: 0 Status: OK PackageFile: BUSseq_1.15.0.tar.gz PackageFileSize: 978.1 KiB