Package: BUSseq Version: 1.17.0 Maintainer: Fangda Song MaintainerEmail: sfd1994895 at gmail.com git_url: https://git.bioconductor.org/packages/BUSseq git_branch: devel git_last_commit: effd843 git_last_commit_date: 2025-10-29 11:10:22 -0400 (Wed, 29 Oct 2025)