Package: BUScorrect Version: 1.27.0 Command: /Library/Frameworks/R.framework/Resources/bin/R CMD INSTALL BUScorrect StartedAt: 2025-10-17 15:19:50 -0400 (Fri, 17 Oct 2025) EndedAt: 2025-10-17 15:20:20 -0400 (Fri, 17 Oct 2025) EllapsedTime: 29.4 seconds RetCode: 0 Status: OK