Package: BUScorrect Version: 1.27.0 Command: rm -rf BUScorrect.buildbin-libdir && mkdir BUScorrect.buildbin-libdir && /Users/biocbuild/BBS/utils/build-universal.sh BUScorrect_1.27.0.tar.gz /Library/Frameworks/R.framework/Resources/bin/R BUScorrect.buildbin-libdir StartedAt: 2025-10-17 03:41:00 -0400 (Fri, 17 Oct 2025) EndedAt: 2025-10-17 03:41:35 -0400 (Fri, 17 Oct 2025) EllapsedTime: 34.6 seconds RetCode: 0 Status: OK PackageFile: BUScorrect_1.27.0.tgz PackageFileSize: 3.6 MiB