Package: BUScorrect Version: 1.27.0 Command: /Library/Frameworks/R.framework/Resources/bin/R CMD build --keep-empty-dirs --no-resave-data BUScorrect StartedAt: 2025-09-29 15:48:12 -0400 (Mon, 29 Sep 2025) EndedAt: 2025-09-29 15:49:08 -0400 (Mon, 29 Sep 2025) EllapsedTime: 55.6 seconds RetCode: 0 Status: OK PackageFile: BUScorrect_1.27.0.tar.gz PackageFileSize: 3.518 MiB