Package: BUS Version: 1.65.0 Command: /home/biocbuild/bbs-3.22-bioc/R/bin/R CMD build --keep-empty-dirs --no-resave-data --md5 BUS StartedAt: 2025-10-03 16:32:50 -0400 (Fri, 03 Oct 2025) EndedAt: 2025-10-03 16:32:57 -0400 (Fri, 03 Oct 2025) EllapsedTime: 7.0 seconds RetCode: 0 Status: OK PackageFile: BUS_1.65.0.tar.gz PackageFileSize: 2.824 MiB