Package: BUS Version: 1.67.0 Command: /home/biocbuild/bbs-3.23-bioc/R/bin/R CMD INSTALL BUS StartedAt: 2025-10-30 15:10:49 -0400 (Thu, 30 Oct 2025) EndedAt: 2025-10-30 15:10:56 -0400 (Thu, 30 Oct 2025) EllapsedTime: 7.1 seconds RetCode: 0 Status: OK