Package: BUS Version: 1.67.0 Command: /home/biocbuild/bbs-3.23-bioc/R/bin/R CMD build --keep-empty-dirs --no-resave-data BUS StartedAt: 2025-10-30 16:20:53 -0400 (Thu, 30 Oct 2025) EndedAt: 2025-10-30 16:21:01 -0400 (Thu, 30 Oct 2025) EllapsedTime: 8.0 seconds RetCode: 0 Status: OK PackageFile: BUS_1.67.0.tar.gz PackageFileSize: 2.823 MiB