Package: BUS Version: 1.67.0 Command: /Library/Frameworks/R.framework/Resources/bin/R CMD INSTALL BUS StartedAt: 2025-11-20 15:18:26 -0500 (Thu, 20 Nov 2025) EndedAt: 2025-11-20 15:18:34 -0500 (Thu, 20 Nov 2025) EllapsedTime: 7.7 seconds RetCode: 0 Status: OK