Package: BUS Version: 1.67.0 Command: /Library/Frameworks/R.framework/Resources/bin/R CMD build --keep-empty-dirs --no-resave-data BUS StartedAt: 2025-11-20 16:20:05 -0500 (Thu, 20 Nov 2025) EndedAt: 2025-11-20 16:20:18 -0500 (Thu, 20 Nov 2025) EllapsedTime: 13.7 seconds RetCode: 0 Status: OK PackageFile: BUS_1.67.0.tar.gz PackageFileSize: 2.822 MiB