Package: BUS Version: 1.67.0 Command: rm -rf BUS.buildbin-libdir && mkdir BUS.buildbin-libdir && /Users/biocbuild/BBS/utils/build-universal.sh BUS_1.67.0.tar.gz /Library/Frameworks/R.framework/Resources/bin/R BUS.buildbin-libdir StartedAt: 2025-11-21 01:24:29 -0500 (Fri, 21 Nov 2025) EndedAt: 2025-11-21 01:24:39 -0500 (Fri, 21 Nov 2025) EllapsedTime: 10.4 seconds RetCode: 0 Status: OK PackageFile: BUS_1.67.0.tgz PackageFileSize: 1.892 MiB