Package: BUS Version: 1.65.0 Command: /Library/Frameworks/R.framework/Resources/bin/R CMD INSTALL BUS StartedAt: 2025-10-21 15:07:17 -0400 (Tue, 21 Oct 2025) EndedAt: 2025-10-21 15:07:21 -0400 (Tue, 21 Oct 2025) EllapsedTime: 4.6 seconds RetCode: 0 Status: OK