Package: BUMHMM Version: 1.33.0 Command: /home/biocbuild/bbs-3.22-bioc/R/bin/R CMD INSTALL BUMHMM StartedAt: 2025-10-05 15:30:08 -0400 (Sun, 05 Oct 2025) EndedAt: 2025-10-05 15:30:31 -0400 (Sun, 05 Oct 2025) EllapsedTime: 23.3 seconds RetCode: 0 Status: OK