Package: BUMHMM Version: 1.33.0 Command: /home/biocbuild/bbs-3.22-bioc/R/bin/R CMD build --keep-empty-dirs --no-resave-data --md5 BUMHMM StartedAt: 2025-10-03 16:32:35 -0400 (Fri, 03 Oct 2025) EndedAt: 2025-10-03 16:33:14 -0400 (Fri, 03 Oct 2025) EllapsedTime: 39.0 seconds RetCode: 0 Status: OK PackageFile: BUMHMM_1.33.0.tar.gz PackageFileSize: 713.4 KiB