Package: BUMHMM Version: 1.35.0 Command: /home/biocbuild/bbs-3.23-bioc/R/bin/R CMD INSTALL BUMHMM StartedAt: 2025-10-31 15:41:29 -0400 (Fri, 31 Oct 2025) EndedAt: 2025-10-31 15:41:54 -0400 (Fri, 31 Oct 2025) EllapsedTime: 25.2 seconds RetCode: 0 Status: OK