Package: BUMHMM Version: 1.35.0 Command: /Library/Frameworks/R.framework/Resources/bin/R CMD build --keep-empty-dirs --no-resave-data BUMHMM StartedAt: 2025-11-20 16:19:57 -0500 (Thu, 20 Nov 2025) EndedAt: 2025-11-20 16:20:48 -0500 (Thu, 20 Nov 2025) EllapsedTime: 51.4 seconds RetCode: 0 Status: OK PackageFile: BUMHMM_1.35.0.tar.gz PackageFileSize: 710.7 KiB