Package: BUMHMM Version: 1.35.0 Command: rm -rf BUMHMM.buildbin-libdir && mkdir BUMHMM.buildbin-libdir && /Users/biocbuild/BBS/utils/build-universal.sh BUMHMM_1.35.0.tar.gz /Library/Frameworks/R.framework/Resources/bin/R BUMHMM.buildbin-libdir StartedAt: 2025-11-21 01:24:27 -0500 (Fri, 21 Nov 2025) EndedAt: 2025-11-21 01:25:07 -0500 (Fri, 21 Nov 2025) EllapsedTime: 39.1 seconds RetCode: 0 Status: OK PackageFile: BUMHMM_1.35.0.tgz PackageFileSize: 749 KiB