Package: BUMHMM Version: 1.33.0 Command: /Library/Frameworks/R.framework/Resources/bin/R CMD build --keep-empty-dirs --no-resave-data BUMHMM StartedAt: 2025-10-10 15:51:09 -0400 (Fri, 10 Oct 2025) EndedAt: 2025-10-10 15:51:28 -0400 (Fri, 10 Oct 2025) EllapsedTime: 18.2 seconds RetCode: 0 Status: OK PackageFile: BUMHMM_1.33.0.tar.gz PackageFileSize: 711.4 KiB