Package: BUMHMM Version: 1.33.0 Command: rm -rf BUMHMM.buildbin-libdir && mkdir BUMHMM.buildbin-libdir && /Users/biocbuild/BBS/utils/build-universal.sh BUMHMM_1.33.0.tar.gz /Library/Frameworks/R.framework/Resources/bin/R BUMHMM.buildbin-libdir StartedAt: 2025-10-10 22:34:18 -0400 (Fri, 10 Oct 2025) EndedAt: 2025-10-10 22:34:29 -0400 (Fri, 10 Oct 2025) EllapsedTime: 11.3 seconds RetCode: 0 Status: OK PackageFile: BUMHMM_1.33.0.tgz PackageFileSize: 750.3 KiB