Package: BUMHMM Version: 1.35.0 Maintainer: Alina Selega MaintainerEmail: alina.selega at gmail.com git_url: https://git.bioconductor.org/packages/BUMHMM git_branch: devel git_last_commit: 468b3c7 git_last_commit_date: 2025-10-29 10:35:55 -0400 (Wed, 29 Oct 2025)