Package: BSgenomeForge Version: 1.11.0 Command: /home/biocbuild/bbs-3.23-bioc/R/bin/R CMD INSTALL BSgenomeForge StartedAt: 2025-11-20 15:27:21 -0500 (Thu, 20 Nov 2025) EndedAt: 2025-11-20 15:27:54 -0500 (Thu, 20 Nov 2025) EllapsedTime: 32.5 seconds RetCode: 0 Status: OK