Package: BSgenomeForge Version: 1.11.0 Command: /home/biocbuild/bbs-3.23-bioc/R/bin/R CMD build --keep-empty-dirs --no-resave-data BSgenomeForge StartedAt: 2025-11-20 16:34:00 -0500 (Thu, 20 Nov 2025) EndedAt: 2025-11-20 16:34:50 -0500 (Thu, 20 Nov 2025) EllapsedTime: 50.0 seconds RetCode: 0 Status: OK PackageFile: BSgenomeForge_1.11.0.tar.gz PackageFileSize: 693.8 KiB