Package: BSgenomeForge Version: 1.9.2 Command: /Library/Frameworks/R.framework/Resources/bin/R CMD INSTALL BSgenomeForge StartedAt: 2025-10-22 15:17:05 -0400 (Wed, 22 Oct 2025) EndedAt: 2025-10-22 15:17:18 -0400 (Wed, 22 Oct 2025) EllapsedTime: 13.5 seconds RetCode: 0 Status: OK