Package: BSgenomeForge Version: 1.9.2 Command: /Library/Frameworks/R.framework/Resources/bin/R CMD build --keep-empty-dirs --no-resave-data BSgenomeForge StartedAt: 2025-10-22 15:48:49 -0400 (Wed, 22 Oct 2025) EndedAt: 2025-10-22 15:49:13 -0400 (Wed, 22 Oct 2025) EllapsedTime: 24.3 seconds RetCode: 0 Status: OK PackageFile: BSgenomeForge_1.9.2.tar.gz PackageFileSize: 693.6 KiB