Package: BSgenomeForge Version: 1.9.2 Command: rm -rf BSgenomeForge.buildbin-libdir && mkdir BSgenomeForge.buildbin-libdir && /Users/biocbuild/BBS/utils/build-universal.sh BSgenomeForge_1.9.2.tar.gz /Library/Frameworks/R.framework/Resources/bin/R BSgenomeForge.buildbin-libdir StartedAt: 2025-10-22 22:53:46 -0400 (Wed, 22 Oct 2025) EndedAt: 2025-10-22 22:54:01 -0400 (Wed, 22 Oct 2025) EllapsedTime: 15.3 seconds RetCode: 0 Status: OK PackageFile: BSgenomeForge_1.9.2.tgz PackageFileSize: 812.9 KiB