Package: BSgenome Version: 1.77.2 Command: /home/biocbuild/bbs-3.22-bioc/R/bin/R CMD INSTALL BSgenome StartedAt: 2025-10-10 15:39:39 -0400 (Fri, 10 Oct 2025) EndedAt: 2025-10-10 15:40:19 -0400 (Fri, 10 Oct 2025) EllapsedTime: 39.7 seconds RetCode: 0 Status: OK