Package: BREW3R.r Version: 1.5.0 Command: /home/biocbuild/R/R/bin/R CMD INSTALL BREW3R.r StartedAt: 2025-10-20 20:29:42 -0000 (Mon, 20 Oct 2025) EndedAt: 2025-10-20 20:29:53 -0000 (Mon, 20 Oct 2025) EllapsedTime: 11.0 seconds RetCode: 0 Status: OK