Package: BREW3R.r Version: 1.5.0 Command: /home/biocbuild/R/R/bin/R CMD build --keep-empty-dirs --no-resave-data BREW3R.r StartedAt: 2025-10-20 22:23:32 -0000 (Mon, 20 Oct 2025) EndedAt: 2025-10-20 22:24:16 -0000 (Mon, 20 Oct 2025) EllapsedTime: 44.0 seconds RetCode: 0 Status: OK PackageFile: BREW3R.r_1.5.0.tar.gz PackageFileSize: 1.852 MiB