Package: BREW3R.r Version: 1.5.0 Command: /home/biocbuild/bbs-3.22-bioc/R/bin/R CMD check --install=check:BREW3R.r.install-out.txt --library=/home/biocbuild/bbs-3.22-bioc/R/site-library --timings BREW3R.r_1.5.0.tar.gz StartedAt: 2025-10-16 22:45:35 -0400 (Thu, 16 Oct 2025) EndedAt: 2025-10-16 22:47:23 -0400 (Thu, 16 Oct 2025) EllapsedTime: 108.2 seconds RetCode: 0 Status: OK CheckDir: BREW3R.r.Rcheck Warnings: 0