Package: BREW3R.r Version: 1.7.0 Command: /home/biocbuild/bbs-3.23-bioc/R/bin/R CMD INSTALL BREW3R.r StartedAt: 2025-11-06 15:16:16 -0500 (Thu, 06 Nov 2025) EndedAt: 2025-11-06 15:16:24 -0500 (Thu, 06 Nov 2025) EllapsedTime: 7.7 seconds RetCode: 0 Status: OK