Package: BREW3R.r Version: 1.7.0 Command: /home/biocbuild/bbs-3.23-bioc/R/bin/R CMD check --install=check:BREW3R.r.install-out.txt --library=/home/biocbuild/bbs-3.23-bioc/R/site-library --timings BREW3R.r_1.7.0.tar.gz StartedAt: 2025-11-21 21:39:02 -0500 (Fri, 21 Nov 2025) EndedAt: 2025-11-21 21:40:44 -0500 (Fri, 21 Nov 2025) EllapsedTime: 102.2 seconds RetCode: 0 Status: OK CheckDir: BREW3R.r.Rcheck Warnings: 0