Package: BREW3R.r Version: 1.7.0 Command: /home/biocbuild/bbs-3.23-bioc/R/bin/R CMD build --keep-empty-dirs --no-resave-data BREW3R.r StartedAt: 2025-11-06 16:32:02 -0500 (Thu, 06 Nov 2025) EndedAt: 2025-11-06 16:32:35 -0500 (Thu, 06 Nov 2025) EllapsedTime: 33.0 seconds RetCode: 0 Status: OK PackageFile: BREW3R.r_1.7.0.tar.gz PackageFileSize: 1.887 MiB