Package: BRAIN Version: 1.55.0 Command: /home/biocbuild/bbs-3.22-bioc/R/bin/R CMD INSTALL BRAIN StartedAt: 2025-10-09 15:26:39 -0400 (Thu, 09 Oct 2025) EndedAt: 2025-10-09 15:26:48 -0400 (Thu, 09 Oct 2025) EllapsedTime: 9.7 seconds RetCode: 0 Status: OK