Package: BPRMeth Version: 1.37.0 Command: /home/biocbuild/bbs-3.23-bioc/R/bin/R CMD INSTALL BPRMeth StartedAt: 2025-11-06 15:15:31 -0500 (Thu, 06 Nov 2025) EndedAt: 2025-11-06 15:15:59 -0500 (Thu, 06 Nov 2025) EllapsedTime: 27.6 seconds RetCode: 0 Status: OK