Package: BPRMeth Version: 1.37.0 Command: /home/biocbuild/bbs-3.23-bioc/R/bin/R CMD build --keep-empty-dirs --no-resave-data BPRMeth StartedAt: 2025-11-06 16:31:11 -0500 (Thu, 06 Nov 2025) EndedAt: 2025-11-06 16:32:39 -0500 (Thu, 06 Nov 2025) EllapsedTime: 88.1 seconds RetCode: 0 Status: OK PackageFile: BPRMeth_1.37.0.tar.gz PackageFileSize: 3.163 MiB