Package: BPRMeth Version: 1.35.0 Command: /Library/Frameworks/R.framework/Resources/bin/R CMD INSTALL BPRMeth StartedAt: 2025-10-10 15:23:11 -0400 (Fri, 10 Oct 2025) EndedAt: 2025-10-10 15:23:49 -0400 (Fri, 10 Oct 2025) EllapsedTime: 38.8 seconds RetCode: 0 Status: OK