Package: BPRMeth Version: 1.35.0 Command: /Library/Frameworks/R.framework/Resources/bin/R CMD build --keep-empty-dirs --no-resave-data BPRMeth StartedAt: 2025-10-10 16:21:03 -0400 (Fri, 10 Oct 2025) EndedAt: 2025-10-10 16:22:37 -0400 (Fri, 10 Oct 2025) EllapsedTime: 93.7 seconds RetCode: 0 Status: OK PackageFile: BPRMeth_1.35.0.tar.gz PackageFileSize: 3.274 MiB