Package: BOBaFIT Version: 1.13.0 Command: /home/biocbuild/R/R/bin/R CMD INSTALL BOBaFIT StartedAt: 2025-10-16 22:07:32 -0000 (Thu, 16 Oct 2025) EndedAt: 2025-10-16 22:08:35 -0000 (Thu, 16 Oct 2025) EllapsedTime: 63.3 seconds RetCode: 0 Status: OK