Package: BOBaFIT Version: 1.13.0 Command: /home/biocbuild/bbs-3.22-bioc/R/bin/R CMD check --install=check:BOBaFIT.install-out.txt --library=/home/biocbuild/bbs-3.22-bioc/R/site-library --timings BOBaFIT_1.13.0.tar.gz StartedAt: 2025-10-10 21:52:38 -0400 (Fri, 10 Oct 2025) EndedAt: 2025-10-10 22:03:50 -0400 (Fri, 10 Oct 2025) EllapsedTime: 671.9 seconds RetCode: 0 Status: WARNINGS CheckDir: BOBaFIT.Rcheck Warnings: 1