Package: BOBaFIT Version: 1.15.0 Command: /home/biocbuild/bbs-3.23-bioc/R/bin/R CMD INSTALL BOBaFIT StartedAt: 2025-11-06 15:46:22 -0500 (Thu, 06 Nov 2025) EndedAt: 2025-11-06 15:47:12 -0500 (Thu, 06 Nov 2025) EllapsedTime: 49.2 seconds RetCode: 0 Status: OK