Package: BOBaFIT Version: 1.15.0 Command: /home/biocbuild/bbs-3.23-bioc/R/bin/R CMD check --install=check:BOBaFIT.install-out.txt --library=/home/biocbuild/bbs-3.23-bioc/R/site-library --timings BOBaFIT_1.15.0.tar.gz StartedAt: 2025-11-17 21:40:40 -0500 (Mon, 17 Nov 2025) EndedAt: 2025-11-17 21:48:27 -0500 (Mon, 17 Nov 2025) EllapsedTime: 467.6 seconds RetCode: 0 Status: WARNINGS CheckDir: BOBaFIT.Rcheck Warnings: 1