Package: BOBaFIT Version: 1.15.0 Command: /home/biocbuild/bbs-3.23-bioc/R/bin/R CMD build --keep-empty-dirs --no-resave-data BOBaFIT StartedAt: 2025-11-07 16:31:19 -0500 (Fri, 07 Nov 2025) EndedAt: 2025-11-07 16:33:02 -0500 (Fri, 07 Nov 2025) EllapsedTime: 102.1 seconds RetCode: 0 Status: OK PackageFile: BOBaFIT_1.15.0.tar.gz PackageFileSize: 2.498 MiB