Package: BLMA Version: 1.33.0 Command: /home/biocbuild/bbs-3.22-bioc/R/bin/R CMD check --install=check:BLMA.install-out.txt --library=/home/biocbuild/bbs-3.22-bioc/R/site-library --timings BLMA_1.33.0.tar.gz StartedAt: 2025-10-15 22:16:19 -0400 (Wed, 15 Oct 2025) EndedAt: 2025-10-15 22:26:49 -0400 (Wed, 15 Oct 2025) EllapsedTime: 630.6 seconds RetCode: 0 Status: OK CheckDir: BLMA.Rcheck Warnings: 0