Package: BLMA Version: 1.35.0 Command: /home/biocbuild/bbs-3.23-bioc/R/bin/R CMD INSTALL BLMA StartedAt: 2025-10-31 15:40:04 -0400 (Fri, 31 Oct 2025) EndedAt: 2025-10-31 15:40:24 -0400 (Fri, 31 Oct 2025) EllapsedTime: 19.6 seconds RetCode: 0 Status: OK